BEGIN:VCALENDAR
VERSION:2.0
PRODID:-//Hundesportverein Grevesmühlen e.V. - ECPv6.8.3//NONSGML v1.0//EN
CALSCALE:GREGORIAN
METHOD:PUBLISH
X-WR-CALNAME:Hundesportverein Grevesmühlen e.V.
X-ORIGINAL-URL:https://xn--hsv-grevesmhlen-9vb.de
X-WR-CALDESC:Veranstaltungen für Hundesportverein Grevesmühlen e.V.
REFRESH-INTERVAL;VALUE=DURATION:PT1H
X-Robots-Tag:noindex
X-PUBLISHED-TTL:PT1H
BEGIN:VTIMEZONE
TZID:Europe/Berlin
BEGIN:DAYLIGHT
TZOFFSETFROM:+0100
TZOFFSETTO:+0200
TZNAME:CEST
DTSTART:20260329T010000
END:DAYLIGHT
BEGIN:STANDARD
TZOFFSETFROM:+0200
TZOFFSETTO:+0100
TZNAME:CET
DTSTART:20261025T010000
END:STANDARD
END:VTIMEZONE
BEGIN:VEVENT
DTSTART;TZID=Europe/Berlin:20260425T100000
DTEND;TZID=Europe/Berlin:20260425T130000
DTSTAMP:20260420T020135
CREATED:20260125T180840Z
LAST-MODIFIED:20260125T180840Z
UID:1448-1777111200-1777122000@xn--hsv-grevesmhlen-9vb.de
SUMMARY:Fährtentag
DESCRIPTION:Heute möchten wir einen Fährtentag veranstalten. Das Fährtengelände wird rechtzeitig bekannt gegeben.
URL:https://xn--hsv-grevesmhlen-9vb.de/event/faehrtentag-4/
CATEGORIES:Interne Veranstaltung
END:VEVENT
BEGIN:VEVENT
DTSTART;TZID=Europe/Berlin:20260606T090000
DTEND;TZID=Europe/Berlin:20260606T130000
DTSTAMP:20260420T020135
CREATED:20260125T180409Z
LAST-MODIFIED:20260125T181856Z
UID:1440-1780736400-1780750800@xn--hsv-grevesmhlen-9vb.de
SUMMARY:Arbeitseinsatz
DESCRIPTION:
URL:https://xn--hsv-grevesmhlen-9vb.de/event/arbeitseinsatz-12/
LOCATION:Am Tannenberg\, Grevesmühlen\, Am Tannenberg\, Hundetrainingsplatz im Wald\, 23936\, Deutschland
CATEGORIES:Interne Veranstaltung
END:VEVENT
BEGIN:VEVENT
DTSTART;TZID=Europe/Berlin:20260620T110000
DTEND;TZID=Europe/Berlin:20260620T120000
DTSTAMP:20260420T020135
CREATED:20260125T181313Z
LAST-MODIFIED:20260125T181313Z
UID:1456-1781953200-1781956800@xn--hsv-grevesmhlen-9vb.de
SUMMARY:Stadtfestumzug
DESCRIPTION:Auch 2026 möchte sich unser Verein wieder beim Stadtfestumzug präsentieren. Der Umzug ist zugleich eine gute Übung für unsere Hunde.
URL:https://xn--hsv-grevesmhlen-9vb.de/event/stadtfestumzug-2/
LOCATION:Grevesmühlen
CATEGORIES:Offene Veranstaltung
END:VEVENT
BEGIN:VEVENT
DTSTART;TZID=Europe/Berlin:20260718T100000
DTEND;TZID=Europe/Berlin:20260718T130000
DTSTAMP:20260420T020135
CREATED:20260125T180947Z
LAST-MODIFIED:20260125T180947Z
UID:1450-1784368800-1784379600@xn--hsv-grevesmhlen-9vb.de
SUMMARY:Fährtenübungstag
DESCRIPTION:Heute möchten wir einen Fährtentag veranstalten. Das Fährtengelände wird rechtzeitig bekannt gegeben.
URL:https://xn--hsv-grevesmhlen-9vb.de/event/faehrtenuebungstag-2/
CATEGORIES:Interne Veranstaltung
END:VEVENT
BEGIN:VEVENT
DTSTART;TZID=Europe/Berlin:20260912T090000
DTEND;TZID=Europe/Berlin:20260912T130000
DTSTAMP:20260420T020135
CREATED:20260125T180450Z
LAST-MODIFIED:20260125T181749Z
UID:1442-1789203600-1789218000@xn--hsv-grevesmhlen-9vb.de
SUMMARY:Arbeitseinsatz
DESCRIPTION:
URL:https://xn--hsv-grevesmhlen-9vb.de/event/arbeitseinsatz-13/
LOCATION:Am Tannenberg\, Grevesmühlen\, Am Tannenberg\, Hundetrainingsplatz im Wald\, 23936\, Deutschland
CATEGORIES:Interne Veranstaltung
END:VEVENT
BEGIN:VEVENT
DTSTART;TZID=Europe/Berlin:20260919T100000
DTEND;TZID=Europe/Berlin:20260919T130000
DTSTAMP:20260420T020135
CREATED:20260125T181039Z
LAST-MODIFIED:20260125T181039Z
UID:1452-1789812000-1789822800@xn--hsv-grevesmhlen-9vb.de
SUMMARY:Fährtenübungstag
DESCRIPTION:Heute möchten wir einen Fährtentag veranstalten. Das Fährtengelände wird rechtzeitig bekannt gegeben.
URL:https://xn--hsv-grevesmhlen-9vb.de/event/faehrtenuebungstag-3/
CATEGORIES:Interne Veranstaltung
END:VEVENT
BEGIN:VEVENT
DTSTART;TZID=Europe/Berlin:20261017T140000
DTEND;TZID=Europe/Berlin:20261017T170000
DTSTAMP:20260420T020135
CREATED:20260125T181650Z
LAST-MODIFIED:20260125T181650Z
UID:1460-1792245600-1792256400@xn--hsv-grevesmhlen-9vb.de
SUMMARY:Hunderalley
DESCRIPTION:Nach einigen Jahren Pause wollen wir dieses Jahr wieder eine Hunderalley veranstalten. Hier absolvieren die Hundeführer zusammen mit Ihren Vierbeinern in einem Wettbewerb diverse Stationen\, bei denen sich sowohl Herrchen/Frauchen als auch die Vierbeiner beweisen müssen.
URL:https://xn--hsv-grevesmhlen-9vb.de/event/hunderalley/
CATEGORIES:Interne Veranstaltung
END:VEVENT
BEGIN:VEVENT
DTSTART;TZID=Europe/Berlin:20261024T100000
DTEND;TZID=Europe/Berlin:20261024T130000
DTSTAMP:20260420T020135
CREATED:20260125T181131Z
LAST-MODIFIED:20260125T181131Z
UID:1454-1792836000-1792846800@xn--hsv-grevesmhlen-9vb.de
SUMMARY:Fährtenübungstag
DESCRIPTION:Heute möchten wir einen Fährtentag veranstalten. Das Fährtengelände wird rechtzeitig bekannt gegeben.
URL:https://xn--hsv-grevesmhlen-9vb.de/event/faehrtenuebungstag-4/
CATEGORIES:Interne Veranstaltung
END:VEVENT
BEGIN:VEVENT
DTSTART;TZID=Europe/Berlin:20261031T090000
DTEND;TZID=Europe/Berlin:20261031T130000
DTSTAMP:20260420T020135
CREATED:20260125T180544Z
LAST-MODIFIED:20260125T181733Z
UID:1444-1793437200-1793451600@xn--hsv-grevesmhlen-9vb.de
SUMMARY:Arbeitseinsatz
DESCRIPTION:
URL:https://xn--hsv-grevesmhlen-9vb.de/event/arbeitseinsatz-14/
LOCATION:Am Tannenberg\, Grevesmühlen\, Am Tannenberg\, Hundetrainingsplatz im Wald\, 23936\, Deutschland
CATEGORIES:Interne Veranstaltung
END:VEVENT
BEGIN:VEVENT
DTSTART;TZID=Europe/Berlin:20261107T080000
DTEND;TZID=Europe/Berlin:20261107T170000
DTSTAMP:20260420T020135
CREATED:20260125T180219Z
LAST-MODIFIED:20260125T181835Z
UID:1436-1794038400-1794070800@xn--hsv-grevesmhlen-9vb.de
SUMMARY:Herbstprüfung
DESCRIPTION:
URL:https://xn--hsv-grevesmhlen-9vb.de/event/herbstpruefung-2/
LOCATION:Am Tannenberg\, Grevesmühlen\, Am Tannenberg\, Hundetrainingsplatz im Wald\, 23936\, Deutschland
CATEGORIES:Offene Veranstaltung,Wettkampf
END:VEVENT
BEGIN:VEVENT
DTSTART;TZID=Europe/Berlin:20261128T180000
DTEND;TZID=Europe/Berlin:20261128T233000
DTSTAMP:20260420T020135
CREATED:20260125T181411Z
LAST-MODIFIED:20260125T181411Z
UID:1458-1795888800-1795908600@xn--hsv-grevesmhlen-9vb.de
SUMMARY:Weihnachtsfeier
DESCRIPTION:
URL:https://xn--hsv-grevesmhlen-9vb.de/event/weihnachtsfeier-4/
CATEGORIES:Interne Veranstaltung
END:VEVENT
END:VCALENDAR