BEGIN:VCALENDAR
VERSION:2.0
PRODID:-//Hundesportverein Grevesmühlen e.V. - ECPv6.8.3//NONSGML v1.0//EN
CALSCALE:GREGORIAN
METHOD:PUBLISH
X-WR-CALNAME:Hundesportverein Grevesmühlen e.V.
X-ORIGINAL-URL:https://xn--hsv-grevesmhlen-9vb.de
X-WR-CALDESC:Veranstaltungen für Hundesportverein Grevesmühlen e.V.
REFRESH-INTERVAL;VALUE=DURATION:PT1H
X-Robots-Tag:noindex
X-PUBLISHED-TTL:PT1H
BEGIN:VTIMEZONE
TZID:Europe/Berlin
BEGIN:DAYLIGHT
TZOFFSETFROM:+0100
TZOFFSETTO:+0200
TZNAME:CEST
DTSTART:20240331T010000
END:DAYLIGHT
BEGIN:STANDARD
TZOFFSETFROM:+0200
TZOFFSETTO:+0100
TZNAME:CET
DTSTART:20241027T010000
END:STANDARD
BEGIN:DAYLIGHT
TZOFFSETFROM:+0100
TZOFFSETTO:+0200
TZNAME:CEST
DTSTART:20250330T010000
END:DAYLIGHT
BEGIN:STANDARD
TZOFFSETFROM:+0200
TZOFFSETTO:+0100
TZNAME:CET
DTSTART:20251026T010000
END:STANDARD
BEGIN:DAYLIGHT
TZOFFSETFROM:+0100
TZOFFSETTO:+0200
TZNAME:CEST
DTSTART:20260329T010000
END:DAYLIGHT
BEGIN:STANDARD
TZOFFSETFROM:+0200
TZOFFSETTO:+0100
TZNAME:CET
DTSTART:20261025T010000
END:STANDARD
END:VTIMEZONE
BEGIN:VEVENT
DTSTART;VALUE=DATE:20260411
DTEND;VALUE=DATE:20260413
DTSTAMP:20260421T161343
CREATED:20260125T175637Z
LAST-MODIFIED:20260125T181814Z
UID:1434-1775865600-1776038399@xn--hsv-grevesmhlen-9vb.de
SUMMARY:Frühjahrsprüfung
DESCRIPTION:Dieses Jahr richten wir wieder zusammen mit dem Schweriner Hundesportverein unsere Frühjahrsprüfung über 2 Tage aus\, um den Hundesportlern eine Qualifikation für die Fährtenmeisterschaft zu ermöglichen. Am 11.04.2026 findet die Prüfung in Grevesmühlen und am 12.04.2026 in Schwerin statt.
URL:https://xn--hsv-grevesmhlen-9vb.de/event/fruehjahrspruefung-3/
LOCATION:Grevesmühlen
CATEGORIES:Offene Veranstaltung,Wettkampf
ATTACH;FMTTYPE=image/jpeg:https://xn--hsv-grevesmhlen-9vb.de/wp-content/uploads/2024/03/9CD10E47-015A-4C87-962D-90947EAA0694-scaled.jpeg
END:VEVENT
BEGIN:VEVENT
DTSTART;TZID=Europe/Berlin:20260404T090000
DTEND;TZID=Europe/Berlin:20260404T130000
DTSTAMP:20260421T161343
CREATED:20260125T180323Z
LAST-MODIFIED:20260125T181908Z
UID:1438-1775293200-1775307600@xn--hsv-grevesmhlen-9vb.de
SUMMARY:Arbeitseinsatz
DESCRIPTION:
URL:https://xn--hsv-grevesmhlen-9vb.de/event/arbeitseinsatz-11/
LOCATION:Am Tannenberg\, Grevesmühlen\, Am Tannenberg\, Hundetrainingsplatz im Wald\, 23936\, Deutschland
CATEGORIES:Interne Veranstaltung
END:VEVENT
BEGIN:VEVENT
DTSTART;VALUE=DATE:20260404
DTEND;VALUE=DATE:20260405
DTSTAMP:20260421T161343
CREATED:20260402T190831Z
LAST-MODIFIED:20260402T190831Z
UID:1516-1775260800-1775347199@xn--hsv-grevesmhlen-9vb.de
SUMMARY:Heute kein Junghunde- und Welpentraining
DESCRIPTION:
URL:https://xn--hsv-grevesmhlen-9vb.de/event/heute-kein-junghunde-und-welpentraining/
CATEGORIES:Interne Veranstaltung,Offene Veranstaltung
END:VEVENT
BEGIN:VEVENT
DTSTART;TZID=Europe/Berlin:20260307T100000
DTEND;TZID=Europe/Berlin:20260307T130000
DTSTAMP:20260421T161343
CREATED:20260125T180750Z
LAST-MODIFIED:20260125T180750Z
UID:1446-1772877600-1772888400@xn--hsv-grevesmhlen-9vb.de
SUMMARY:Fährtentag
DESCRIPTION:Heute möchten wir einen Fährtentag veranstalten. Das Fährtengelände wird rechtzeitig bekannt gegeben.
URL:https://xn--hsv-grevesmhlen-9vb.de/event/faehrtentag-3/
CATEGORIES:Interne Veranstaltung
END:VEVENT
BEGIN:VEVENT
DTSTART;TZID=Europe/Berlin:20260228T140000
DTEND;TZID=Europe/Berlin:20260228T170000
DTSTAMP:20260421T161343
CREATED:20260125T190158Z
LAST-MODIFIED:20260125T190158Z
UID:1464-1772287200-1772298000@xn--hsv-grevesmhlen-9vb.de
SUMMARY:Winterwanderung
DESCRIPTION:Heute führen wir unsere Winterwanderung durch. Wir wollen dieses Jahr am Strand von Steinbeck wandern und anschließend bei Kaffee und Kuchen auf dem Hof in Steinbeck den Nachmittag gemütlich ausklingen lassen.
URL:https://xn--hsv-grevesmhlen-9vb.de/event/winterwanderung/
LOCATION:Steinbeck
CATEGORIES:Interne Veranstaltung
END:VEVENT
BEGIN:VEVENT
DTSTART;VALUE=DATE:20260214
DTEND;VALUE=DATE:20260215
DTSTAMP:20260421T161343
CREATED:20260213T192114Z
LAST-MODIFIED:20260213T192114Z
UID:1469-1771027200-1771113599@xn--hsv-grevesmhlen-9vb.de
SUMMARY:Am 14.02.2026 findet kein Welpen- und Junghundetraining statt.
DESCRIPTION:
URL:https://xn--hsv-grevesmhlen-9vb.de/event/am-14-02-2026-findet-kein-welpen-und-junghundetraining-statt/
END:VEVENT
BEGIN:VEVENT
DTSTART;TZID=Europe/Berlin:20260124T150000
DTEND;TZID=Europe/Berlin:20260124T170000
DTSTAMP:20260421T161343
CREATED:20260106T121221Z
LAST-MODIFIED:20260106T121221Z
UID:1431-1769266800-1769274000@xn--hsv-grevesmhlen-9vb.de
SUMMARY:Jahreshauptversammlung 2026
DESCRIPTION:Am 24.01.2026 findet um 15.00 Uhr unsere Jahreshauptversammlung im Vereinsheim am Tannenberg statt.
URL:https://xn--hsv-grevesmhlen-9vb.de/event/jahreshauptversammlung-2026/
CATEGORIES:Interne Veranstaltung
END:VEVENT
BEGIN:VEVENT
DTSTART;TZID=Europe/Berlin:20251129T180000
DTEND;TZID=Europe/Berlin:20251129T220000
DTSTAMP:20260421T161343
CREATED:20250128T121354Z
LAST-MODIFIED:20250128T121354Z
UID:1298-1764439200-1764453600@xn--hsv-grevesmhlen-9vb.de
SUMMARY:Weihnachtsfeier
DESCRIPTION:Es ist geplant\, unsere diesjährige Weihnachtsfeier auf der Go-Kart-Bahn bei Hohen Wieschendorf zu veranstalten
URL:https://xn--hsv-grevesmhlen-9vb.de/event/weihnachtsfeier-3/
CATEGORIES:Interne Veranstaltung
END:VEVENT
BEGIN:VEVENT
DTSTART;VALUE=DATE:20251108
DTEND;VALUE=DATE:20251109
DTSTAMP:20260421T161343
CREATED:20250128T120533Z
LAST-MODIFIED:20250128T121935Z
UID:1288-1762560000-1762646399@xn--hsv-grevesmhlen-9vb.de
SUMMARY:Herbstprüfung
DESCRIPTION:
URL:https://xn--hsv-grevesmhlen-9vb.de/event/herbstpruefung/
CATEGORIES:Offene Veranstaltung,Wettkampf
END:VEVENT
BEGIN:VEVENT
DTSTART;TZID=Europe/Berlin:20251101T090000
DTEND;TZID=Europe/Berlin:20251101T130000
DTSTAMP:20260421T161343
CREATED:20250128T120836Z
LAST-MODIFIED:20250128T120836Z
UID:1292-1761987600-1762002000@xn--hsv-grevesmhlen-9vb.de
SUMMARY:Arbeitseinsatz
DESCRIPTION:
URL:https://xn--hsv-grevesmhlen-9vb.de/event/arbeitseinsatz-8/
LOCATION:Am Tannenberg\, Grevesmühlen\, Am Tannenberg\, Hundetrainingsplatz im Wald\, 23936\, Deutschland
CATEGORIES:Interne Veranstaltung
END:VEVENT
BEGIN:VEVENT
DTSTART;TZID=Europe/Berlin:20250913T090000
DTEND;TZID=Europe/Berlin:20250913T130000
DTSTAMP:20260421T161343
CREATED:20250128T121000Z
LAST-MODIFIED:20250128T121000Z
UID:1294-1757754000-1757768400@xn--hsv-grevesmhlen-9vb.de
SUMMARY:Arbeitseinsatz
DESCRIPTION:
URL:https://xn--hsv-grevesmhlen-9vb.de/event/arbeitseinsatz-9/
LOCATION:Am Tannenberg\, Grevesmühlen\, Am Tannenberg\, Hundetrainingsplatz im Wald\, 23936\, Deutschland
CATEGORIES:Interne Veranstaltung
END:VEVENT
BEGIN:VEVENT
DTSTART;TZID=Europe/Berlin:20250628T090000
DTEND;TZID=Europe/Berlin:20250628T130000
DTSTAMP:20260421T161343
CREATED:20250128T121112Z
LAST-MODIFIED:20250128T121112Z
UID:1296-1751101200-1751115600@xn--hsv-grevesmhlen-9vb.de
SUMMARY:Arbeitseinsatz
DESCRIPTION:
URL:https://xn--hsv-grevesmhlen-9vb.de/event/arbeitseinsatz-10/
CATEGORIES:Interne Veranstaltung
END:VEVENT
BEGIN:VEVENT
DTSTART;TZID=Europe/Berlin:20250621T110000
DTEND;TZID=Europe/Berlin:20250621T123000
DTSTAMP:20260421T161343
CREATED:20250128T121817Z
LAST-MODIFIED:20250128T121817Z
UID:1302-1750503600-1750509000@xn--hsv-grevesmhlen-9vb.de
SUMMARY:Stadtfestumzug
DESCRIPTION:Es ist geplant\, auch dieses Jahr wieder unseren Verein beim Stadtfestumzug zu präsentieren.
URL:https://xn--hsv-grevesmhlen-9vb.de/event/stadtfestumzug/
CATEGORIES:Offene Veranstaltung
END:VEVENT
BEGIN:VEVENT
DTSTART;VALUE=DATE:20250405
DTEND;VALUE=DATE:20250406
DTSTAMP:20260421T161343
CREATED:20250128T120359Z
LAST-MODIFIED:20250319T120223Z
UID:1286-1743811200-1743897599@xn--hsv-grevesmhlen-9vb.de
SUMMARY:Frühjahrsprüfung
DESCRIPTION:
URL:https://xn--hsv-grevesmhlen-9vb.de/event/fruehjahrspruefung-2/
CATEGORIES:Offene Veranstaltung,Wettkampf
END:VEVENT
BEGIN:VEVENT
DTSTART;TZID=Europe/Berlin:20250329T090000
DTEND;TZID=Europe/Berlin:20250329T130000
DTSTAMP:20260421T161343
CREATED:20250128T120659Z
LAST-MODIFIED:20250128T120659Z
UID:1290-1743238800-1743253200@xn--hsv-grevesmhlen-9vb.de
SUMMARY:Arbeitseinsatz
DESCRIPTION:
URL:https://xn--hsv-grevesmhlen-9vb.de/event/arbeitseinsatz-7/
LOCATION:Am Tannenberg\, Grevesmühlen\, Am Tannenberg\, Hundetrainingsplatz im Wald\, 23936\, Deutschland
CATEGORIES:Interne Veranstaltung
END:VEVENT
BEGIN:VEVENT
DTSTART;TZID=Europe/Berlin:20250308T100000
DTEND;TZID=Europe/Berlin:20250308T170000
DTSTAMP:20260421T161343
CREATED:20250128T121628Z
LAST-MODIFIED:20250128T121628Z
UID:1300-1741428000-1741453200@xn--hsv-grevesmhlen-9vb.de
SUMMARY:Fährtenübungstag
DESCRIPTION:Sollte an diesem Tag Schnee liegen bzw. es zu kalt zum Fährten sein\, werden wir eine Winterwanderung durchführen.
URL:https://xn--hsv-grevesmhlen-9vb.de/event/faehrtenuebungstag/
CATEGORIES:Interne Veranstaltung,Lehrgang
END:VEVENT
BEGIN:VEVENT
DTSTART;TZID=Europe/Berlin:20250308T100000
DTEND;TZID=Europe/Berlin:20250308T130000
DTSTAMP:20260421T161343
CREATED:20250303T070655Z
LAST-MODIFIED:20250303T070655Z
UID:1306-1741428000-1741438800@xn--hsv-grevesmhlen-9vb.de
SUMMARY:Fährtentag
DESCRIPTION:Am 08.03. führen wir einen Fährtenübungstag durch. Treffpunkt ist um 10 Uhr am Wildtiergehege in Grevesmühlen.
URL:https://xn--hsv-grevesmhlen-9vb.de/event/faehrtentag-2/
LOCATION:Grevesmühlen
CATEGORIES:Interne Veranstaltung
END:VEVENT
BEGIN:VEVENT
DTSTART;TZID=Europe/Berlin:20250125T150000
DTEND;TZID=Europe/Berlin:20250125T170000
DTSTAMP:20260421T161343
CREATED:20250121T120359Z
LAST-MODIFIED:20250121T120359Z
UID:1280-1737817200-1737824400@xn--hsv-grevesmhlen-9vb.de
SUMMARY:Jahreshauptversammlung
DESCRIPTION:
URL:https://xn--hsv-grevesmhlen-9vb.de/event/jahreshauptversammlung/
CATEGORIES:Interne Veranstaltung
END:VEVENT
BEGIN:VEVENT
DTSTART;TZID=Europe/Berlin:20241130T183000
DTEND;TZID=Europe/Berlin:20241130T203000
DTSTAMP:20260421T161343
CREATED:20240202T115801Z
LAST-MODIFIED:20240202T115801Z
UID:903-1732991400-1732998600@xn--hsv-grevesmhlen-9vb.de
SUMMARY:Weihnachtsfeier
DESCRIPTION:
URL:https://xn--hsv-grevesmhlen-9vb.de/event/weihnachtsfeier-2/
CATEGORIES:Interne Veranstaltung
END:VEVENT
BEGIN:VEVENT
DTSTART;VALUE=DATE:20241109
DTEND;VALUE=DATE:20241110
DTSTAMP:20260421T161343
CREATED:20240202T140826Z
LAST-MODIFIED:20240202T140826Z
UID:913-1731110400-1731196799@xn--hsv-grevesmhlen-9vb.de
SUMMARY:Herbstprüfung 2024
DESCRIPTION:
URL:https://xn--hsv-grevesmhlen-9vb.de/event/herbstpruefung-2024/
LOCATION:Am Tannenberg\, Grevesmühlen\, Am Tannenberg\, Hundetrainingsplatz im Wald\, 23936\, Deutschland
CATEGORIES:Wettkampf
END:VEVENT
BEGIN:VEVENT
DTSTART;TZID=Europe/Berlin:20241102T090000
DTEND;TZID=Europe/Berlin:20241102T140000
DTSTAMP:20260421T161343
CREATED:20240202T115335Z
LAST-MODIFIED:20240202T115335Z
UID:895-1730538000-1730556000@xn--hsv-grevesmhlen-9vb.de
SUMMARY:Arbeitseinsatz
DESCRIPTION:
URL:https://xn--hsv-grevesmhlen-9vb.de/event/arbeitseinsatz-4/
LOCATION:Am Tannenberg\, Grevesmühlen\, Am Tannenberg\, Hundetrainingsplatz im Wald\, 23936\, Deutschland
CATEGORIES:Interne Veranstaltung
END:VEVENT
BEGIN:VEVENT
DTSTART;TZID=Europe/Berlin:20240907T143000
DTEND;TZID=Europe/Berlin:20240907T170000
DTSTAMP:20260421T161343
CREATED:20240202T115924Z
LAST-MODIFIED:20240608T195403Z
UID:905-1725719400-1725728400@xn--hsv-grevesmhlen-9vb.de
SUMMARY:Sommerfest
DESCRIPTION:Auch dieses Jahr wollen wir wieder ein Sommerfest durchführen\, Einzelheiten werden zeitnah bekannt gegeben.
URL:https://xn--hsv-grevesmhlen-9vb.de/event/sommerfest-2/
LOCATION:Am Tannenberg\, Grevesmühlen\, Am Tannenberg\, Hundetrainingsplatz im Wald\, 23936\, Deutschland
CATEGORIES:Interne Veranstaltung
END:VEVENT
BEGIN:VEVENT
DTSTART;TZID=Europe/Berlin:20240907T090000
DTEND;TZID=Europe/Berlin:20240907T140000
DTSTAMP:20260421T161343
CREATED:20240202T115534Z
LAST-MODIFIED:20240202T120104Z
UID:899-1725699600-1725717600@xn--hsv-grevesmhlen-9vb.de
SUMMARY:Arbeitseinsatz
DESCRIPTION:
URL:https://xn--hsv-grevesmhlen-9vb.de/event/arbeitseinsatz-6/
LOCATION:Am Tannenberg\, Grevesmühlen\, Am Tannenberg\, Hundetrainingsplatz im Wald\, 23936\, Deutschland
CATEGORIES:Interne Veranstaltung
END:VEVENT
BEGIN:VEVENT
DTSTART;TZID=Europe/Berlin:20240720T140000
DTEND;TZID=Europe/Berlin:20240720T170000
DTSTAMP:20260421T161343
CREATED:20240720T095358Z
LAST-MODIFIED:20240720T095358Z
UID:1063-1721484000-1721494800@xn--hsv-grevesmhlen-9vb.de
SUMMARY:Ausfall Training wegen Hitze
DESCRIPTION:Da es heute ziemlich warm ist und die Temperaturen bis auf 27 Grad steigen sollen\, fällt das Welpen- und Junghundetraining heute aus.
URL:https://xn--hsv-grevesmhlen-9vb.de/event/ausfall-training-wegen-hitze/
CATEGORIES:Offene Veranstaltung
END:VEVENT
BEGIN:VEVENT
DTSTART;TZID=Europe/Berlin:20240608T090000
DTEND;TZID=Europe/Berlin:20240608T130000
DTSTAMP:20260421T161343
CREATED:20240202T115436Z
LAST-MODIFIED:20240202T115436Z
UID:897-1717837200-1717851600@xn--hsv-grevesmhlen-9vb.de
SUMMARY:Arbeitseinsatz
DESCRIPTION:
URL:https://xn--hsv-grevesmhlen-9vb.de/event/arbeitseinsatz-5/
LOCATION:Am Tannenberg\, Grevesmühlen\, Am Tannenberg\, Hundetrainingsplatz im Wald\, 23936\, Deutschland
CATEGORIES:Interne Veranstaltung
END:VEVENT
BEGIN:VEVENT
DTSTART;VALUE=DATE:20240420
DTEND;VALUE=DATE:20240421
DTSTAMP:20260421T161343
CREATED:20240202T140726Z
LAST-MODIFIED:20240202T140726Z
UID:911-1713571200-1713657599@xn--hsv-grevesmhlen-9vb.de
SUMMARY:Frühjahrsprüfung 2024
DESCRIPTION:
URL:https://xn--hsv-grevesmhlen-9vb.de/event/fruehjahrspruefung-2024/
LOCATION:Am Tannenberg\, Grevesmühlen\, Am Tannenberg\, Hundetrainingsplatz im Wald\, 23936\, Deutschland
CATEGORIES:Wettkampf
END:VEVENT
BEGIN:VEVENT
DTSTART;TZID=Europe/Berlin:20240330T150000
DTEND;TZID=Europe/Berlin:20240330T235900
DTSTAMP:20260421T161343
CREATED:20240202T115714Z
LAST-MODIFIED:20240202T120157Z
UID:901-1711810800-1711843140@xn--hsv-grevesmhlen-9vb.de
SUMMARY:Osterfeuer
DESCRIPTION:Am Ostersamstag laden wir alle Mitglieder zu einem kleinen Osterfeuer auf unserem Hundeplatz ein. Bei einem kleinen Imbiß wollen wir gemütlich beisammen sitzen. Näheres wird rechtzeitig bekannt gegeben.
URL:https://xn--hsv-grevesmhlen-9vb.de/event/osterfeuer/
LOCATION:Am Tannenberg\, Grevesmühlen\, Am Tannenberg\, Hundetrainingsplatz im Wald\, 23936\, Deutschland
CATEGORIES:Interne Veranstaltung
END:VEVENT
BEGIN:VEVENT
DTSTART;TZID=Europe/Berlin:20240316T150000
DTEND;TZID=Europe/Berlin:20240316T170000
DTSTAMP:20260421T161343
CREATED:20240310T195915Z
LAST-MODIFIED:20240310T195915Z
UID:918-1710601200-1710608400@xn--hsv-grevesmhlen-9vb.de
SUMMARY:Seminar „Erste Hilfe beim Hund“
DESCRIPTION:Am 16.03. um 15 Uhr hält die Tier-Physiotherapeutin Frau Bader einen kleinen Vortrag über Erste-Hilfe-Maßnahmen am Hund.
URL:https://xn--hsv-grevesmhlen-9vb.de/event/seminar-erste-hilfe-beim-hund/
LOCATION:Am Tannenberg\, Grevesmühlen\, Am Tannenberg\, Hundetrainingsplatz im Wald\, 23936\, Deutschland
CATEGORIES:Interne Veranstaltung,Lehrgang
END:VEVENT
BEGIN:VEVENT
DTSTART;TZID=Europe/Berlin:20240316T100000
DTEND;TZID=Europe/Berlin:20240316T130000
DTSTAMP:20260421T161343
CREATED:20240202T120040Z
LAST-MODIFIED:20240310T195429Z
UID:907-1710583200-1710594000@xn--hsv-grevesmhlen-9vb.de
SUMMARY:Fährtentag
DESCRIPTION:Am 16.03.2024 führen wir einen Fährtentag durch. Beginn ist um 10 Uhr.
URL:https://xn--hsv-grevesmhlen-9vb.de/event/faehrtentag/
CATEGORIES:Interne Veranstaltung,Lehrgang
END:VEVENT
BEGIN:VEVENT
DTSTART;TZID=Europe/Berlin:20240127T150000
DTEND;TZID=Europe/Berlin:20240127T163000
DTSTAMP:20260421T161343
CREATED:20240104T142556Z
LAST-MODIFIED:20240104T143220Z
UID:867-1706367600-1706373000@xn--hsv-grevesmhlen-9vb.de
SUMMARY:Jahreshauptversammlung 2024
DESCRIPTION:Liebe Mitglieder\, der Vorstand lädt zur Jahreshauptversammlung 2024 ein. Die Einladungen mit der Agenda wurden entsprechend versendet. \nEtwaige Änderungen zur Agenda\, sind dem Vorsitzenden bis zum 20.01.2024 mitzuteilen. \nDer Vorstand
URL:https://xn--hsv-grevesmhlen-9vb.de/event/jahreshauptversammlung-2024/
CATEGORIES:Interne Veranstaltung
END:VEVENT
END:VCALENDAR